BEGIN:VCALENDAR
VERSION:2.0
PRODID:icalendar-ruby
CALSCALE:GREGORIAN
METHOD:PUBLISH
BEGIN:VEVENT
DTSTAMP:20260424T110413Z
UID:320949cc-6469-439d-a26a-badcdb1374db
DTSTART:20260425T200000
DTEND:20260426T040000
DESCRIPTION:<p><span>Saturday 25 April</span></p><p><span>Meet me at the Lo
 ndon</span></p><p><span>thelondonjhb.co.za</span></p><p><br></p>
LOCATION:160 Jan Smuts Ave\, Rosebank\, Johannesburg\, 2191
SUMMARY:LONDON - 25 APRIL
URL;VALUE=URI:https://london.howler.co.za/london25
END:VEVENT
END:VCALENDAR
